BEGIN:VCALENDAR
VERSION:2.0
PRODID:-//pretix//Biblioteca_Eventi//
BEGIN:VTIMEZONE
TZID:Europe/Rome
BEGIN:STANDARD
DTSTART:20001029T040000
RRULE:FREQ=YEARLY;BYDAY=-1SU;BYMONTH=10
TZNAME:CET
TZOFFSETFROM:+0200
TZOFFSETTO:+0100
END:STANDARD
BEGIN:DAYLIGHT
DTSTART:20000326T030000
RRULE:FREQ=YEARLY;BYDAY=-1SU;BYMONTH=3
TZNAME:CEST
TZOFFSETFROM:+0100
TZOFFSETTO:+0200
END:DAYLIGHT
END:VTIMEZONE
BEGIN:VEVENT
UID:pretix-01-letture-4-0@prenotazioni.comune-portogruaro-ve.it
DTSTART;TZID=Europe/Rome:20260516T111500
DTEND;TZID=Europe/Rome:20260516T120000
DESCRIPTION:Tickets: https://prenotazioni.comune-portogruaro-ve.it/01/lettu
 re-4/\nAdmission: 02/05/2026 09:00\nOrganizer: Biblioteca di Portogruaro -
  Sistema di prenotazione eventi
DTSTAMP:20260420T123310Z
LOCATION:Biblioteca Civica - Via Seminario 29
SUMMARY:Nati per Leggere. Il Maggio dei libri 3-6 anni - 2° turno 11.15-12
 .00
END:VEVENT
END:VCALENDAR
